BEGIN:VCALENDAR
VERSION:2.0
PRODID:icalendar-ruby
CALSCALE:GREGORIAN
BEGIN:VTIMEZONE
TZID:America/New_York
BEGIN:DAYLIGHT
DTSTART:20240310T030000
TZOFFSETFROM:-0500
TZOFFSETTO:-0400
RRULE:FREQ=YEARLY;BYDAY=2SU;BYMONTH=3
TZNAME:EDT
END:DAYLIGHT
BEGIN:STANDARD
DTSTART:20241103T010000
TZOFFSETFROM:-0400
TZOFFSETTO:-0500
RRULE:FREQ=YEARLY;BYDAY=1SU;BYMONTH=11
TZNAME:EST
END:STANDARD
END:VTIMEZONE
BEGIN:VEVENT
DTSTAMP:20260425T163218Z
UID:d7azMQ
DTSTART;TZID=America/New_York:20241001T180000
DTEND;TZID=America/New_York:20241001T210000
CLASS:PUBLIC
CREATED:20240903T132026
DESCRIPTION: Capitale numérique lance officiellement ses activités!\nRejo
 ignez-nous pour une soirée dynamique et conviviale. \n\n Nous vous invito
 ns à une soirée spéciale qui marquera le lancement officiel de l'organi
 sme Capitale numérique\, et qui nous permettra de dévoiler la programmat
 ion d'activités. C'est l'occasion parfaite de découvrir les initiatives 
 qui animeront notre communauté numérique tout au long de l'année\, tout
  en échangeant avec les personnes du milieu. 🤝✨ \n\n Au programme : 
 \n\n \n Dévoilement exclusif du calendrier des ateliers de co-création 
 à venir 📅 \n Annonce des nouvelles initiatives événementielles de Ca
 pitale numérique 🎤 \n Présentation des opportunités de collaboration
  au sein de l'organisme 🫶🏼 \n Maillage avec les gens de l'industrie 
 qui seront présents 🌐 \n \n\n Rejoignez-nous pour une soirée propice 
 à la connexion humaine\, le tout dans un esprit convivial et amical! Cont
 ribuez au dynamisme de l'écosystème numérique\, à partir de la ville d
 e Québec. 🎯 \n
LAST-MODIFIED:20260412T123042
LOCATION:Québec (Québec)  Canada
ORGANIZER:mailto:info@capitalenumerique.com
SUMMARY:Lancement de Capitale numérique
URL;VALUE=URI:https://ti.to/cnum/lancement-cnum
URL;VALUE=URI:https://ti.to/cnum/lancement-cnum
END:VEVENT
BEGIN:VEVENT
DTSTAMP:20260425T163218Z
UID:d7azMQ1075009
DTSTART;TZID=America/New_York:20241001T180000
DTEND;TZID=America/New_York:20241001T210000
CLASS:PUBLIC
CREATED:20240912T111515
LAST-MODIFIED:20240912T112902
LOCATION:District Saint-Joseph\, 240\, rue Saint-Joseph E.\, Québec (Québ
 ec)  G1K 3A9
ORGANIZER:mailto:info@capitalenumerique.com
SUMMARY:[Lancement de Capitale numérique] Lancement de Capitale numérique
URL;VALUE=URI:https://ti.to/cnum/lancement-cnum
URL;VALUE=URI:https://ti.to/cnum/lancement-cnum
END:VEVENT
END:VCALENDAR
