BEGIN:VCALENDAR
VERSION:2.0
PRODID:icalendar-ruby
CALSCALE:GREGORIAN
BEGIN:VEVENT
DTSTAMP:20260422T121828Z
UID:aJE3CQ
DTSTART;VALUE=DATE:20141022
DTEND;VALUE=DATE:20141025
CLASS:PUBLIC
CREATED:20140724T153031
LAST-MODIFIED:20141020T131358
LOCATION:Shoreditch Village Hall
ORGANIZER:mailto:hello@cmdrconf.com
SUMMARY:⌘R Conf
URL;VALUE=URI:https://ti.to/cmdr/cmdrconf
URL;VALUE=URI:https://ti.to/cmdr/cmdrconf
END:VEVENT
END:VCALENDAR
