BEGIN:VCALENDAR
VERSION:2.0
PRODID:icalendar-ruby
CALSCALE:GREGORIAN
BEGIN:VEVENT
DTSTAMP:20260420T170100Z
UID:rWqPUg
DTSTART;VALUE=DATE:20191116
DTEND;VALUE=DATE:20191118
CLASS:PUBLIC
CREATED:20190611T144139
DESCRIPTION: Cloud Native Rejekts is the b-side conference kicking off the 
 North American Kubernetes community’s biggest week. It sets the stage fo
 r some of the wonderful\, but rejected\, presentations submitted to KubeCo
 n. \n
LAST-MODIFIED:20200131T114321
LOCATION:San Diego\, California
ORGANIZER:mailto:events@kinvolk.io
SUMMARY:Cloud Native Rejekts NA 2019
URL;VALUE=URI:https://ti.to/cloud-native-rejekts/cloud-native-rejekts-na-20
 19
URL;VALUE=URI:https://ti.to/cloud-native-rejekts/cloud-native-rejekts-na-20
 19
END:VEVENT
END:VCALENDAR
