BEGIN:VCALENDAR
VERSION:2.0
PRODID:icalendar-ruby
CALSCALE:GREGORIAN
BEGIN:VEVENT
DTSTAMP:20260419T175238Z
UID:d0WvdQ
DTSTART;VALUE=DATE:20260602
DTEND;VALUE=DATE:20260605
CLASS:PUBLIC
CREATED:20250612T145527
DESCRIPTION: Bringing the UX community together for a celebration of all th
 ings digital design &amp\; UX. \n\n Join us for world-class talks and hand
 s-on workshops covering UX research\, product\, interface design\, content
  strategy\, cross-functional collaboration\, interface design\, design sys
 tems and much more. \n
LAST-MODIFIED:20260401T163548
LOCATION:London
ORGANIZER:mailto:events@clearleft.com
SUMMARY:UX London 2026
URL;VALUE=URI:https://ti.to/clearleft/ux-london-2026
URL;VALUE=URI:https://ti.to/clearleft/ux-london-2026
END:VEVENT
END:VCALENDAR
