BEGIN:VCALENDAR
VERSION:2.0
PRODID:icalendar-ruby
CALSCALE:GREGORIAN
BEGIN:VTIMEZONE
TZID:Europe/London
BEGIN:DAYLIGHT
DTSTART:20230326T020000
TZOFFSETFROM:+0000
TZOFFSETTO:+0100
RRULE:FREQ=YEARLY;BYDAY=-1SU;BYMONTH=3
TZNAME:BST
END:DAYLIGHT
BEGIN:STANDARD
DTSTART:20231029T010000
TZOFFSETFROM:+0100
TZOFFSETTO:+0000
RRULE:FREQ=YEARLY;BYDAY=-1SU;BYMONTH=10
TZNAME:GMT
END:STANDARD
END:VTIMEZONE
BEGIN:VEVENT
DTSTAMP:20260419T175748Z
UID:jvhKZQ
DTSTART;VALUE=DATE:20230622
DTEND;VALUE=DATE:20230624
CLASS:PUBLIC
CREATED:20220714T064556
DESCRIPTION: Bringing the UX community together for a two day celebration o
 f all things digital design &amp\; UX. \n\n Join us in June 2023 for world
  class talks and hands-on workshops covering Research\, Content &amp\; Des
 ign Systems. \n
LAST-MODIFIED:20251111T194649
LOCATION:London
ORGANIZER:mailto:events@clearleft.com
SUMMARY:UX London 2023
URL;VALUE=URI:https://ti.to/clearleft/ux-london-2023
URL;VALUE=URI:https://ti.to/clearleft/ux-london-2023
END:VEVENT
END:VCALENDAR
