BEGIN:VCALENDAR
VERSION:2.0
PRODID:icalendar-ruby
CALSCALE:GREGORIAN
BEGIN:VTIMEZONE
TZID:Europe/London
BEGIN:DAYLIGHT
DTSTART:20260329T020000
TZOFFSETFROM:+0000
TZOFFSETTO:+0100
RRULE:FREQ=YEARLY;BYDAY=-1SU;BYMONTH=3
TZNAME:BST
END:DAYLIGHT
BEGIN:STANDARD
DTSTART:20261025T010000
TZOFFSETFROM:+0100
TZOFFSETTO:+0000
RRULE:FREQ=YEARLY;BYDAY=-1SU;BYMONTH=10
TZNAME:GMT
END:STANDARD
END:VTIMEZONE
BEGIN:VEVENT
DTSTAMP:20260423T003026Z
UID:8v6BDQ
DTSTART;TZID=Europe/London:20260507T084500
DTEND;TZID=Europe/London:20260507T103000
CLASS:PUBLIC
CREATED:20260420T065041
DESCRIPTION: Bringing people together from Sussex and the South East to net
 work and discuss all things service design. \n
LAST-MODIFIED:20260420T151122
LOCATION:Clearleft\, 68 Middle Street\, Brighton\, UK\, BN1 1AL
ORGANIZER:mailto:events@clearleft.com
SUMMARY:Service Design Breakfast Club (May 2026)
URL;VALUE=URI:https://ti.to/clearleft/service-design-breakfast-may-2026
URL;VALUE=URI:https://ti.to/clearleft/service-design-breakfast-may-2026
END:VEVENT
END:VCALENDAR
