BEGIN:VCALENDAR
VERSION:2.0
PRODID:icalendar-ruby
CALSCALE:GREGORIAN
BEGIN:VEVENT
DTSTAMP:20260420T015702Z
UID:GjHlSA
DTSTART:20261111T090000
DTEND:20261112T170000
CLASS:PUBLIC
CREATED:20251030T100147
DESCRIPTION: A world-class event for design leaders. Join us for two days o
 f connection\, inspiration &amp\; learning. \n
LAST-MODIFIED:20260303T163742
LOCATION:London
ORGANIZER:mailto:events@clearleft.com
SUMMARY:Leading Design London 2026
URL;VALUE=URI:https://ti.to/clearleft/leading-design-london-2026
URL;VALUE=URI:https://ti.to/clearleft/leading-design-london-2026
END:VEVENT
END:VCALENDAR
