BEGIN:VCALENDAR
VERSION:2.0
PRODID:icalendar-ruby
CALSCALE:GREGORIAN
BEGIN:VTIMEZONE
TZID:America/Los_Angeles
BEGIN:DAYLIGHT
DTSTART:20240310T030000
TZOFFSETFROM:-0800
TZOFFSETTO:-0700
RRULE:FREQ=YEARLY;BYDAY=2SU;BYMONTH=3
TZNAME:PDT
END:DAYLIGHT
BEGIN:STANDARD
DTSTART:20241103T010000
TZOFFSETFROM:-0700
TZOFFSETTO:-0800
RRULE:FREQ=YEARLY;BYDAY=1SU;BYMONTH=11
TZNAME:PST
END:STANDARD
END:VTIMEZONE
BEGIN:VEVENT
DTSTAMP:20260420T125711Z
UID:OGRjaA
DTSTART;TZID=America/Los_Angeles:20240925T084500
DTEND;TZID=America/Los_Angeles:20240926T134000
CLASS:PUBLIC
CREATED:20240723T150657
DESCRIPTION: A design systems community conference \n
LAST-MODIFIED:20240925T111321
LOCATION:Online
ORGANIZER:mailto:jina@design.systems
SUMMARY:Clarity 2024
URL;VALUE=URI:https://ti.to/clarity/clarity-2024
URL;VALUE=URI:https://ti.to/clarity/clarity-2024
END:VEVENT
BEGIN:VEVENT
DTSTAMP:20260420T125711Z
UID:OGRjaA1073353
DTSTART;TZID=America/Los_Angeles:20240925T084500
DTEND;TZID=America/Los_Angeles:20240925T134000
CLASS:PUBLIC
CREATED:20240723T175001
LAST-MODIFIED:20240918T190640
ORGANIZER:mailto:jina@design.systems
SUMMARY:[Clarity 2024] Clarity 2024 Day 1
URL;VALUE=URI:https://ti.to/clarity/clarity-2024
URL;VALUE=URI:https://ti.to/clarity/clarity-2024
END:VEVENT
BEGIN:VEVENT
DTSTAMP:20260420T125711Z
UID:OGRjaA1073354
DTSTART;TZID=America/Los_Angeles:20240926T084500
DTEND;TZID=America/Los_Angeles:20240926T134000
CLASS:PUBLIC
CREATED:20240723T175040
LAST-MODIFIED:20240918T190647
ORGANIZER:mailto:jina@design.systems
SUMMARY:[Clarity 2024] Clarity 2024 Day 2
URL;VALUE=URI:https://ti.to/clarity/clarity-2024
URL;VALUE=URI:https://ti.to/clarity/clarity-2024
END:VEVENT
END:VCALENDAR
