BEGIN:VCALENDAR
VERSION:2.0
PRODID:icalendar-ruby
CALSCALE:GREGORIAN
BEGIN:VEVENT
DTSTAMP:20260425T003807Z
UID:GG3b2w
DTSTART:20240403T090000
DTEND:20240405T170000
CLASS:PUBLIC
CREATED:20231009T205358
DESCRIPTION: ✨ Join us for an enriching 3-day event\, featuring 20+ speak
 ers and 400+ attendees\, all united by the love of JavaScript. \n\n 👑 C
 ityJS London Conference 2024 is the culmination of boundless energy and su
 ccess of a thriving community. Emerging from the collaborating efforts of 
 four meetup groups in London\, JS Monthly\, Halfstack London Node User gro
 up and London JS Community in 2018. \n\n 💎 The event became internation
 al during the pandemic with 70 speakers around the world. After the pandem
 ic ended it continued hosting international events around the world in Ind
 ia\, Brazil\, Greece\, UK\, Nigeria\, and Singapore. \n
LAST-MODIFIED:20240702T102251
LOCATION:Royal Geographical Society
ORGANIZER:mailto:cityjsconf@gmail.com
SUMMARY:CITYJS LONDON 2024
URL;VALUE=URI:https://ti.to/cityjsconf-london/cityjs-london-2024
URL;VALUE=URI:https://ti.to/cityjsconf-london/cityjs-london-2024
END:VEVENT
END:VCALENDAR
