BEGIN:VCALENDAR
VERSION:2.0
PRODID:icalendar-ruby
CALSCALE:GREGORIAN
BEGIN:VEVENT
DTSTAMP:20260419T142015Z
UID:Gexo1g
DTSTART:20250617T090000
DTEND:20250617T180000
CLASS:PUBLIC
CREATED:20250523T091602
DESCRIPTION: This year the CIBM Breakfast &amp\; Science Summer Edition wil
 l be a full-day event with inspiring talks\, delicious food\, challenging 
 games and a lot of fun!\nThe day will kick off with scientific presentatio
 ns and poster sessions\, giving attendees the chance to share their work. 
 It's a platform to showcase research\, ideas\, findings\, and future plans
 \, featuring rapid-fire oral presentations (power pitches) lasting 3-5 min
 utes each\, as well as a poster session.\nTo recharge the batteries we hav
 e prepared a delicious CIBM summer lunch\, don’t miss it! \n
LAST-MODIFIED:20260106T124532
LOCATION:CMU\, University of Geneva
ORGANIZER:mailto:noreply-calendar@tito.io
SUMMARY:CIBM Breakfast & Science Summer Edition 2025 Fun and Games Challeng
 e
URL;VALUE=URI:https://ti.to/cibm/breakfast-science-summer-edition-2025
URL;VALUE=URI:https://ti.to/cibm/breakfast-science-summer-edition-2025
END:VEVENT
END:VCALENDAR
