BEGIN:VCALENDAR
VERSION:2.0
PRODID:icalendar-ruby
CALSCALE:GREGORIAN
BEGIN:VEVENT
DTSTAMP:20260421T055818Z
UID:fNbUGQ
DTSTART:20241023T110000
DTEND:20241023T130000
CLASS:PUBLIC
CREATED:20240917T114719
DESCRIPTION: General information on the types of Assistive Technology avail
 able to the visually impaired\; Join us for this Assistive Technology (AT)
  Drop-in Session in the ChildVision library to explore the many AT devices
  which support low vision and braille users.\nStaff will be available to d
 emonstrate how these devices can enhance accessibility. This session offer
 s the opportunity to ask any questions about Assistive Technology and try 
 out the devices.\nSome of the devices include\n Explore 5 –\n Pocket-siz
 e magnifier\n Explore 12\n Portable 12 inch video magnifier\n Braille\n Se
 nse – Braille Notetaker powered by Android\n Connect 12\n Smart portable
  HD magnifier\nReveal 16i\n Smart Desk Magnifier \n
LAST-MODIFIED:20240919T104853
LOCATION:ChildVision Campus   Library
ORGANIZER:mailto:AnneMarieCostelloe@childvision.ie
SUMMARY:Assistive Technology Drop- in Session
URL;VALUE=URI:https://ti.to/childvision/assistive-technology-vi-
URL;VALUE=URI:https://ti.to/childvision/assistive-technology-vi-
END:VEVENT
END:VCALENDAR
