BEGIN:VCALENDAR
VERSION:2.0
PRODID:icalendar-ruby
CALSCALE:GREGORIAN
BEGIN:VEVENT
DTSTAMP:20260419T235826Z
UID:TgtuLw
DTSTART;VALUE=DATE:20180505
DTEND;VALUE=DATE:20180506
CLASS:PUBLIC
CREATED:20180304T121342
DESCRIPTION: Let's do the timewarp again! Put on your stockings and suspend
 ers on and get ready to sing along to the Rocky Horror Picture Show!  Door
 s open at 5:30pm \n
LAST-MODIFIED:20180505T095212
LOCATION:London - Perivale 
ORGANIZER:mailto:spectacular.rockyhorror@gmail.com
SUMMARY:Spectacular Cinema Presents The Rocky Horror Picture Show - Perival
 e
URL;VALUE=URI:https://ti.to/child-org/spectacularcinema-rockyhorror-perival
 e
URL;VALUE=URI:https://ti.to/child-org/spectacularcinema-rockyhorror-perival
 e
END:VEVENT
END:VCALENDAR
