BEGIN:VCALENDAR
VERSION:2.0
PRODID:icalendar-ruby
CALSCALE:GREGORIAN
BEGIN:VEVENT
DTSTAMP:20260420T113212Z
UID:5amSiA
DTSTART;VALUE=DATE:20180610
DTEND;VALUE=DATE:20180611
CLASS:PUBLIC
CREATED:20180223T164316
DESCRIPTION: Join us for an Earth Day arts &amp\; crafts event and learn ab
 out the importance of recycling plastic through a fun upcycling activity! 
  Chiswick\, London | 22 April | 4pm until 6pm \n
LAST-MODIFIED:20180528T050541
LOCATION:London\, United Kingdom
ORGANIZER:mailto:ecoexplorersuk@gmail.com
SUMMARY:Earth Day Upcycling for Kids: Turn plastic bottles into glow lamps
URL;VALUE=URI:https://ti.to/child-org/ecoexplorersupcycling
URL;VALUE=URI:https://ti.to/child-org/ecoexplorersupcycling
END:VEVENT
END:VCALENDAR
