BEGIN:VCALENDAR
VERSION:2.0
PRODID:icalendar-ruby
CALSCALE:GREGORIAN
BEGIN:VEVENT
DTSTAMP:20260420T201559Z
UID:diLYdg
DTSTART;VALUE=DATE:20191112
DTEND;VALUE=DATE:20191113
CLASS:PUBLIC
CREATED:20190320T004047
DESCRIPTION: Chattanooga Devopsdays covers the topics of software developme
 nt\, IT infrastructure operations\, and the intersection between them. \n\
 n Diversity scholarships available at Diversity Tickets! \n
LAST-MODIFIED:20230725T185501
LOCATION:1201 Broad St\, Chattanooga\, TN 37402
ORGANIZER:mailto:chattanooga@devopsdays.org
SUMMARY:Chattanooga Devopsdays 2019
URL;VALUE=URI:https://ti.to/chattanooga-devopsdays/chattanooga-devopsdays-2
 019
URL;VALUE=URI:https://ti.to/chattanooga-devopsdays/chattanooga-devopsdays-2
 019
END:VEVENT
END:VCALENDAR
