BEGIN:VCALENDAR
VERSION:2.0
PRODID:icalendar-ruby
CALSCALE:GREGORIAN
BEGIN:VEVENT
DTSTAMP:20260420T213451Z
UID:pUybdA
DTSTART:20260327T100000
DTEND:20260327T163000
CLASS:PUBLIC
CREATED:20251215T112238
DESCRIPTION: Join us for the 9th annual Incubator and Accelerator Network C
 onference\, hosted by Queen Mary\, University of London\, in partnership w
 ith InnovateUK. \n
LAST-MODIFIED:20260326T133029
LOCATION:London
ORGANIZER:mailto:claire@centreforentrepreneurs.org
SUMMARY:IAN 2026
URL;VALUE=URI:https://ti.to/centre-for-entrepreneurs/ian-2026
URL;VALUE=URI:https://ti.to/centre-for-entrepreneurs/ian-2026
END:VEVENT
END:VCALENDAR
