BEGIN:VCALENDAR
VERSION:2.0
PRODID:icalendar-ruby
CALSCALE:GREGORIAN
BEGIN:VEVENT
DTSTAMP:20260422T063029Z
UID:VD6sCQ
DTSTART;VALUE=DATE:20150821
DTEND;VALUE=DATE:20150822
CLASS:PUBLIC
CREATED:20150621T122953
LAST-MODIFIED:20150805T202259
LOCATION:Falafel King\, Cotham Hill\, BS6 6LF
ORGANIZER:mailto:info@cannoliandgun.co.uk
SUMMARY:ALADDIN (1992) | MIDDLE EASTERN MEZZE FEAST | FRIDAY 21 AUGUST | TH
 E KHAN CAVERN\, FALAFEL KING
URL;VALUE=URI:https://ti.to/cannoliandgun/aladdin
URL;VALUE=URI:https://ti.to/cannoliandgun/aladdin
END:VEVENT
END:VCALENDAR
