BEGIN:VCALENDAR
VERSION:2.0
PRODID:icalendar-ruby
CALSCALE:GREGORIAN
BEGIN:VEVENT
DTSTAMP:20260421T165310Z
UID:Zg6lcw
DTSTART;VALUE=DATE:20170617
DTEND;VALUE=DATE:20170625
CLASS:PUBLIC
CREATED:20170314T130706
DESCRIPTION: The official Stone Roses pre &amp\; after parties tickets \n\n
  17th June 2017\, Wembley stadium London | 1:00pm till 3:00am \n\n Venue -
  Crystal Club in Wembley \n\n Date - Saturday 17th June 2017 \n\n Time - 1
 :00pm till 3:00am \n\n The OFFICIAL Stone Roses Pre &amp\; After show Part
 ies London at the crystal club 500 meters from wembley stadium \n\n ***Lin
 e Up** \n\n Graeme Park (Hacienda Legend)\nPhil Beckett (Stone Roses Tour 
 DJ)\nDarren Partington (808 State)\nBez (Happy Mondays)\nPaul Ryder (Happy
  Mondays)\nDermo (Northside)\nRowetta (Live Pa)\nNick Cope(Common People)\
 nChrisBretton (Madchester)\nLeo B Stanley(Identity)" \n\n Music Genres: 80
 s\, Club Classics\, Indie \n\n 24th June 2017\, SWG3 in Glasgow | 1:00pm t
 ill 2:00am \n\n Venue - SWG3 in Glasgow \n\n Date - Tuesday 20-21th June 2
 017 \n\n Time - 1:00pm til 2:00am \n\n Manchester &amp\; Glasgow 2 legenda
 ry cities known for great musical history and great parties and having it 
 on the dance floor\, this one off event sees Manchester bring it to Glasgo
 w in collaboration with Glasgow's finest\, a truly monumental night for su
 re\, this is the one  \n\n Bringing together Legends under one groove play
 ing a massive mix of Indie Madchester Old School Anthems. \n\n This is the
  one Manchester &amp\; Glasgow Style. \n\n ***Line Up** \n\n Graeme Park (
 Hacienda)\nDarren Partington (808 State)\nJon Mancini &amp\; Boney(Streetr
 ave legends)\nBosco &amp\; Rob Mason (Lets Go Back)\nRowetta Live Pa(Happy
  Monday)\nPhil Beckett(Official Stoen Roses DJ)\nClint Boon(Inspiral Carpe
 ts)\nPaul Ryder (Happy Mondays)\nDermo (Northside)" \n\n Music Genres: 80s
 \, Club Classics\, Indie \n\n Ticket Availability will be limited due to c
 apacity. \n
LAST-MODIFIED:20190430T145518
LOCATION:London\, Leeds & Glassow
ORGANIZER:mailto:info@buyurticket.com
SUMMARY:The Stone Roses
URL;VALUE=URI:https://ti.to/buyurticket/stoneroses
URL;VALUE=URI:https://ti.to/buyurticket/stoneroses
END:VEVENT
END:VCALENDAR
