BEGIN:VCALENDAR
VERSION:2.0
PRODID:icalendar-ruby
CALSCALE:GREGORIAN
BEGIN:VTIMEZONE
TZID:Europe/Dublin
BEGIN:DAYLIGHT
DTSTART:20251026T010000
TZOFFSETFROM:+0100
TZOFFSETTO:+0000
RRULE:FREQ=YEARLY;BYDAY=-1SU;BYMONTH=10
TZNAME:GMT
END:DAYLIGHT
BEGIN:STANDARD
DTSTART:20250330T020000
TZOFFSETFROM:+0000
TZOFFSETTO:+0100
RRULE:FREQ=YEARLY;BYDAY=-1SU;BYMONTH=3
TZNAME:IST
END:STANDARD
END:VTIMEZONE
BEGIN:VEVENT
DTSTAMP:20260421T084031Z
UID:fXHqZQ
DTSTART;TZID=Europe/Dublin:20250904T180000
DTEND;TZID=Europe/Dublin:20250904T230000
CLASS:PUBLIC
CREATED:20241216T104501
DESCRIPTION: Join us for a night of celebration at the 2025 Responsible Bus
 iness Awards in Northern Ireland gala event. \n\n The Responsible Business
  Awards in Northern Ireland showcase transformational stories of businesse
 s taking real action to build thriving communities and have celebrated tho
 se businesses demonstrating strong\, inclusive leadership\, who continuall
 y innovate to tackle pressing social issues and to repair and rebuild our 
 planet. \n\n They celebrate the power of partnership\, shine a light on be
 st practice\, and demonstrate just how much business can be a force for go
 od in society\, tackling some of our biggest and most challenging societal
  issues. \n\n This year we are delighted to host a gala dinner event at th
 e ICC Belfast 6-11PM on 4 September 2025. Cancellations received after 1 A
 ugust 2025 are non-refundable. Substitutions can be made at any time. \n\n
  If you would prefer to pay by invoice\, please complete our invoice reque
 st form. \n\n Please email suzi.mcilwain@bitcni.org.uk with any queries re
 garding the Awards. \n
LAST-MODIFIED:20260420T102823
LOCATION:ICC Belfast\, 2 Lanyon Place\, Belfast BT1 3WH 
ORGANIZER:mailto:suzi.mcilwain@bitcni.org.uk
SUMMARY:2025 Responsible Business Awards in Northern Ireland
URL;VALUE=URI:https://ti.to/business-in-the-community-northern-ireland/2025
 responsiblebusinessawards
URL;VALUE=URI:https://ti.to/business-in-the-community-northern-ireland/2025
 responsiblebusinessawards
END:VEVENT
END:VCALENDAR
