BEGIN:VCALENDAR
VERSION:2.0
PRODID:icalendar-ruby
CALSCALE:GREGORIAN
BEGIN:VEVENT
DTSTAMP:20260420T015803Z
UID:5og9yg
DTSTART;VALUE=DATE:20160908
DTEND;VALUE=DATE:20160909
CLASS:PUBLIC
CREATED:20160708T014848
DESCRIPTION: グローバル eコマース リーダーズ フォーラム
 　 \n\n ■ イベント概要 | \n:----- | \n開催日程: 2016/09/8 (
 木) 14:30 ～ 21:00 (懇親会含む)    | \n開場・受付時間: 14:30
  ～   | \n主催企業: btrax\, Inc. (btrax.com)  /  The Global Retail In
 sight Network  (GRIN) | \n会場名: Open Innovation Biotope ”Sea”   |
  \n開催地: 東京都千代田区紀尾井町4-1ニューオータニガ
 ーデンコート3階オカムラガーデンコートショールーム
 内 (MAP)   |  \n\n ■ ブランド向けグローバルEコマースセ
 ミナー | \n:----- | \nトップブランドと小売業者が最先端
 の知識を得てお互いの学びを共有するためのeコマース
 勉強会です。同じ問題を抱えるリーダー達とeコマース
 の未来について語りませんか？ 当日は海外からのゲス
 トを招いたセミナーの他、全員参加型のディスカッシ
 ョンも予定しております。  | \n\n ■ スピーカー | \n:----
 - |\n \n \n   \n\n 他のスピーカーも随時追加予定です。 \n\
 n ■ プログラム内容 | \n:----- |  \n\n 14:55- 15:10  オープニ
 ングスピーチ \nオンラインストア購入率をアップさせ
 る5つのUXポイント   \n\n ■    Brandon Hill \n\n 15:10-16:00 \nグ
 ローバルで成功する企業の共通点とは？ \n1\,000人以上
 もの協力なGRINネットワークの研究の中からグローバル
 で成功した小売業者の事例をご紹介します。国に合わ
 せたWebサイトの作成、運用をする上で重要視すること
 、顧客の購買行動に従った運用方法の開発、オープン
 イノベーションとコラボレーションの文化の形成につ
 いてお話します。 \n\n ■　Kai Li (カイ・リー)\, VP of Inter
 national\, (Revolve Clothing) \n■　Carl Miller (カール・ミレー)\
 , Founder &amp\; Managing Director\, (GRIN)  　 \n\n GRINのファウン
 ダーであるJoin Carl MillerとRevolve Clothingの国際ビジネスの
 新規顧客開拓であるKai Liは最先端のWebサイトの運用方
 法と小売業者達がどのようにオープンイノベーション
 モデルを探求しているのかについて語ります。 \n\n 16:00
 -17:00 \n日本で展開するグローバルブランドの戦略 \n海
 外ブランドが日本市場でどのようなeCommerce戦略で成功
 し、また売り上げを伸ばしているかのテーマで、業界
 のリーダーによるディスカッションをいたします。ま
 た、日本企業が海外で展開するために考えておくべき
 ポイントなどを議論します。 \n\n ■　桑野 克己 \, 代表
 取締役 CEO\, ルビー・グループ株式会社 \n■　慎 
 正宗 \, シニアマネージャー\, Kurt Salmon \n■　佐々木 星\
 , リテイル事業部\, 住友商事株式会社 \n■　栗原 優輝\,
  リテール本部\,　NIKEiDビジネスマネジャー\, NIKEジャパ
 ン \n\n 17:00-17:45 \nLearning from China Now - 中国の今を学ぶ \n
 最新のデータでは世界で第２のGDP（国内総生産）を誇
 り、拡大し続ける中国市場と日本のブランドはどのよ
 うに戦っていけばよいでしょうか？   \n\n ■　James Eron (
 ジェームス・エイロン)\, China's leading eCommerce Data and Analy
 tics advisory\, (Kung Fu Data) \n■　董 路 (Dong Lu)\, Founder of Beyo
 nd Tailors\, La Miu and Japan Foodie   \n\n 17:45-20:00 \n懇親会   \n\n
  ■ ご参加対象者 | \n:----- | \n・eコマース部門のリーダ
 ー\n・売上のデータ・ツール管理、分析の責任者 \n・ゼ
 ネナルマネージャー \n・Eコマースディレクター \n・マ
 ーケティングマネージャー \n・ブランドストラテジス
 ト \n（サービス・プロバイダーとプラットフォーム企
 業は含まれません）|    \n\n ■ これまでの参加企業 | \n:
 ----- | \n \n\n ■ 参加するメリット？| \n:----- | \n・自分た
 ちの会社の立ち位置を知り、世界で戦うための具体的
 なアクション探す \n・Eコマースビジネスをもっと簡単
 に管理するためのツールを見つける \n・グローバルに
 ビジネスを展開するために最先端のアプローチ方法を
 学ぶ \n・グローバル企業の最新事例と成功事例を学ぶ \
 n・販売戦略の手法を改善するために、顧客データの活
 用方法を学ぶ \n・ディスカッションに参加してあなた
 の経験とグローバル戦略を磨く \n・ビジネスリーダ同
 士のネットワークを構築する  \n\n ■ Global Retail Insights N
 etwork (GRIN)とは？| \n:----- | \n53カ国、1\,000人のメンバー
 で構成されたサンフランシスコをベースとする非営利
 団体です。この組織は「グローバルリテイナーとブラ
 ンドを支援し、リーダ同士のコラボレーションと知識
 共有の促進を支援します。そして、データやインサイ
 トを共有し合うことで、次にやるべき項目を具体化し
 、グローバルで活躍できるプレイヤーを創出する」と
 いった目標を掲げています。 \n\n ■ btraxとは？| \n:----- 
 | \nサンフランシスコを本社にグローバル規模で、イノ
 ベーションをデザインするコンサルティング会社です
 。アメリカ企業のアジアへのマーケットエントリーや
 、日本企業の海外進出をブランドのローカリゼーショ
 ンとマーケティングで支援しています。メンバーの全
 員がバイリンガルまたはマルチリンガルであり、サン
 フランシスコの他に東京、上海、香港、ニューヨーク
 、ドイツにビジネスを展開しています。\n(btrax.com) \n
LAST-MODIFIED:20190909T185948
LOCATION:Okamura\, Tokyo
ORGANIZER:mailto:marketing@btrax.com
SUMMARY:Global Ecommerce Leaders Forum
URL;VALUE=URI:https://ti.to/btrax/global-ecommerce-forum
URL;VALUE=URI:https://ti.to/btrax/global-ecommerce-forum
END:VEVENT
END:VCALENDAR
