BEGIN:VCALENDAR
VERSION:2.0
PRODID:icalendar-ruby
CALSCALE:GREGORIAN
BEGIN:VEVENT
DTSTAMP:20260425T163046Z
UID:YiKDQQ
DTSTART:20240518T091500
DTEND:20240518T180000
CLASS:PUBLIC
CREATED:20231213T122320
DESCRIPTION: Security BSides is a community-driven framework for building e
 vents\, by and for\, information security community members. These events 
 are already happening in major cities all over the world! We are responsib
 le for organising an independent BSides-Approved event for Ireland\, in Du
 blin. \n\n The conference brings together renowned Information Security pr
 ofessionals and enthusiasts from all over the world\, and gives to all par
 ticipants the opportunity to network\, learn and participate among like-mi
 nded individuals\, while sharing or presenting their work. \n\n This year'
 s conference builds on the success of the 2023 event and we will be hostin
 g the event at the Arts Building of Trinity College Dublin\, Ireland D02 P
 N40 on the 18th of May 2024. \n\n  \nSee www.bsidesdub.ie for info on Spon
 sors\, Speakers\, Schedule and more!\nFollow @BSidesDublin on Twitter and 
 use hashtags #BSidesDub\, #BSidesDublin2024 \n
LAST-MODIFIED:20241124T013034
LOCATION:Trinity College Dublin\, Ireland D02 PN40
ORGANIZER:mailto:tickets@bsidesdub.ie
SUMMARY:Security BSides Dublin 2024
URL;VALUE=URI:https://ti.to/bsidesdublin/security-bsides-2024
URL;VALUE=URI:https://ti.to/bsidesdublin/security-bsides-2024
END:VEVENT
END:VCALENDAR
