BEGIN:VCALENDAR
VERSION:2.0
PRODID:icalendar-ruby
CALSCALE:GREGORIAN
BEGIN:VTIMEZONE
TZID:America/New_York
BEGIN:DAYLIGHT
DTSTART:20230312T030000
TZOFFSETFROM:-0500
TZOFFSETTO:-0400
RRULE:FREQ=YEARLY;BYDAY=2SU;BYMONTH=3
TZNAME:EDT
END:DAYLIGHT
BEGIN:STANDARD
DTSTART:20231105T010000
TZOFFSETFROM:-0400
TZOFFSETTO:-0500
RRULE:FREQ=YEARLY;BYDAY=1SU;BYMONTH=11
TZNAME:EST
END:STANDARD
END:VTIMEZONE
BEGIN:VEVENT
DTSTAMP:20260422T025753Z
UID:A0Ypcg
DTSTART;VALUE=DATE:20231014
DTEND;VALUE=DATE:20231015
CLASS:PUBLIC
CREATED:20230913T212909
DESCRIPTION: As always\, BSides Atlanta 2023 is a free event that is open t
 o all. We also have a Personal Sponsor option. This sponsorship helps pay 
 for putting the conference on and gets you early access to a ticket. \n
LAST-MODIFIED:20260329T222947
LOCATION:KSU Center - 3333 Busbee Drive\, Kennesaw\, Georgia 30144
ORGANIZER:mailto:info@bsidesatl.info
SUMMARY:BSides Atlanta 2023
URL;VALUE=URI:https://ti.to/bsidesatl/2023
URL;VALUE=URI:https://ti.to/bsidesatl/2023
END:VEVENT
END:VCALENDAR
