BEGIN:VCALENDAR
VERSION:2.0
PRODID:icalendar-ruby
CALSCALE:GREGORIAN
BEGIN:VTIMEZONE
TZID:Europe/London
BEGIN:DAYLIGHT
DTSTART:20260329T020000
TZOFFSETFROM:+0000
TZOFFSETTO:+0100
RRULE:FREQ=YEARLY;BYDAY=-1SU;BYMONTH=3
TZNAME:BST
END:DAYLIGHT
BEGIN:STANDARD
DTSTART:20261025T010000
TZOFFSETFROM:+0100
TZOFFSETTO:+0000
RRULE:FREQ=YEARLY;BYDAY=-1SU;BYMONTH=10
TZNAME:GMT
END:STANDARD
END:VTIMEZONE
BEGIN:VEVENT
DTSTAMP:20260422T142611Z
UID:RcI44A
DTSTART;VALUE=DATE:20260425
DTEND;VALUE=DATE:20260426
CLASS:PUBLIC
CREATED:20251216T183855
DESCRIPTION: BSides Exeter is a conference for people interested in the Inf
 ormation Security industry\; an opportunity to learn\, share ideas\, mingl
 e\, and expand your network with other like-minded people. Our events suit
  blue-teamers\, red-teamers\, and anyone in between with workshops\, engag
 ing talks and networking opportunities. \n\n Tickets for our main event al
 so include our special BSides Exeter T-Shirt which can be collected on the
  day of the event due to ordering times the only available sizes now will 
 be large and xl. \n\n We're also running workshops on the 24th April where
  all money raised goes to charity\, please checkout the ticket page here: 
 https://ti.to/bsides-exeter/bsides-exeter-workshops \n
LAST-MODIFIED:20260420T133942
LOCATION:Exeter University\, The Forum
ORGANIZER:mailto:info@bsidesexeter.co.uk
SUMMARY:BSides Exeter 2026
URL;VALUE=URI:https://ti.to/bsides-exeter/bsides-exeter-2026
URL;VALUE=URI:https://ti.to/bsides-exeter/bsides-exeter-2026
END:VEVENT
END:VCALENDAR
