BEGIN:VCALENDAR
VERSION:2.0
PRODID:icalendar-ruby
CALSCALE:GREGORIAN
BEGIN:VTIMEZONE
TZID:America/New_York
BEGIN:DAYLIGHT
DTSTART:20260308T030000
TZOFFSETFROM:-0500
TZOFFSETTO:-0400
RRULE:FREQ=YEARLY;BYDAY=2SU;BYMONTH=3
TZNAME:EDT
END:DAYLIGHT
BEGIN:STANDARD
DTSTART:20251102T010000
TZOFFSETFROM:-0400
TZOFFSETTO:-0500
RRULE:FREQ=YEARLY;BYDAY=1SU;BYMONTH=11
TZNAME:EST
END:STANDARD
END:VTIMEZONE
BEGIN:VEVENT
DTSTAMP:20260421T204626Z
UID:2oio1A
DTSTART;TZID=America/New_York:20251115T080000
DTEND;TZID=America/New_York:20251115T200000
CLASS:PUBLIC
CREATED:20250625T202642
DESCRIPTION: Teams of two will compete in fun and challenging events\, in v
 arious divisions suitable for a broad range of abilities.\nAll Divisions w
 ill compete on *Saturday\, November 15th.* \n\n Note: Athletes need to be 
 available to compete between the hours of from 8a - 7p as full details and
  timing of heats will be released after Seeding is complete. \n\n Division
  Requirements\nCLICK HERE to review division standards for this event. \n
LAST-MODIFIED:20251115T093134
LOCATION:Toronto\, Ontario
ORGANIZER:mailto:noreply-calendar@tito.io
SUMMARY:BROS × DOES 2025
URL;VALUE=URI:https://ti.to/bros-x-does/toronto-2025
URL;VALUE=URI:https://ti.to/bros-x-does/toronto-2025
END:VEVENT
END:VCALENDAR
