BEGIN:VCALENDAR
VERSION:2.0
PRODID:icalendar-ruby
CALSCALE:GREGORIAN
BEGIN:VEVENT
DTSTAMP:20260421T140012Z
UID:7demdg
DTSTART;VALUE=DATE:20151007
DTEND;VALUE=DATE:20151008
CLASS:PUBLIC
CREATED:20150908T220712
DESCRIPTION: We sure do miss y'all. Let's get together again and celebrate 
 this wonderful community. \n
LAST-MODIFIED:20151020T202814
LOCATION:Brooklyn\, NY
ORGANIZER:mailto:noreply-calendar@tito.io
SUMMARY:Brooklyn Beta Reunion Party 2015
URL;VALUE=URI:https://ti.to/brooklyn-beta/brooklyn-beta-reunion-party-2015
URL;VALUE=URI:https://ti.to/brooklyn-beta/brooklyn-beta-reunion-party-2015
END:VEVENT
END:VCALENDAR
