BEGIN:VCALENDAR
VERSION:2.0
PRODID:icalendar-ruby
CALSCALE:GREGORIAN
BEGIN:VEVENT
DTSTAMP:20260421T083313Z
UID:r083ZQ
DTSTART;VALUE=DATE:20180129
DTEND;VALUE=DATE:20180130
CLASS:PUBLIC
CREATED:20171019T071714
DESCRIPTION: Please join us at the first Bristol Data Scientists Meetup of 
 2018 for three great presentations and networking drinks!   \n\n Pre-meeti
 ng workshop \n3pm: A Beginners Guide to Data Science \nAimée Gott\, Mango
  Solutions \n\n Agenda: \n6:00pm: Arrival and drinks \n6:30pm: Presentatio
 ns (followed by networking and drinks) \n• Speaker #1: Deep Neural Netwo
 rk Training and Applications - Tim Wong\, Centrica \n• Speaker #2: Data 
 Science at Dyson - Dan Erben\, Dyson \n• Speaker #3: Data science to imp
 rove your life - Laura Collett\, Bristol Clinical Trials Unit at BRI \n\n 
 Join us on Twitter with the Bristol Data Scientists hashtag: #BristolDS   
 \n
LAST-MODIFIED:20180129T133943
LOCATION:The Watershed\, Bristol
ORGANIZER:mailto:marketing@mango-solutions.com
SUMMARY:January 2018
URL;VALUE=URI:https://ti.to/bristol-data-scientists/january-2018
URL;VALUE=URI:https://ti.to/bristol-data-scientists/january-2018
END:VEVENT
END:VCALENDAR
