BEGIN:VCALENDAR
VERSION:2.0
PRODID:icalendar-ruby
CALSCALE:GREGORIAN
BEGIN:VEVENT
DTSTAMP:20260422T090217Z
UID:v3vBnQ
DTSTART;VALUE=DATE:20141121
DTEND;VALUE=DATE:20141122
CLASS:PUBLIC
CREATED:20141012T095931
DESCRIPTION: Listen up you jive turkeys! We're showing Jim Kelly's cult bla
 xploitation/martial arts movie Black Samurai at an actual Bristol dojo! \n
LAST-MODIFIED:20141121T160458
LOCATION:Templegate Dojo
ORGANIZER:mailto:bbfc@post.com
SUMMARY:Black Samurai screening
URL;VALUE=URI:https://ti.to/bristol-bad-film-club/black-samurai-screening
URL;VALUE=URI:https://ti.to/bristol-bad-film-club/black-samurai-screening
END:VEVENT
END:VCALENDAR
