BEGIN:VCALENDAR
VERSION:2.0
PRODID:icalendar-ruby
CALSCALE:GREGORIAN
BEGIN:VEVENT
DTSTAMP:20260419T215507Z
UID:o02Ulw
DTSTART;VALUE=DATE:20151015
DTEND;VALUE=DATE:20151016
CLASS:PUBLIC
CREATED:20150502T123449
DESCRIPTION: Bristech Conference 2015 is for a one-day conference with mult
 iple streams of talks/workshops leaning heavily on our Rolodex of excellen
 t speakers who have graced us with their presence at meetups over the last
  18 months. \n\n The conference will host a diverse range of topics: we ho
 pe you’ll forgive us for the lack of specific focus\; we think there is 
 simply too much "good stuff" going on in and around Bristol to restrict sp
 eakers to a particular theme. \n\n Join us in October for an exciting new 
 tech event in Bristol! \n
LAST-MODIFIED:20190118T145636
LOCATION:Bristol\, England
ORGANIZER:mailto:noreply-calendar@tito.io
SUMMARY:Bristech 2015
URL;VALUE=URI:https://ti.to/bristech-conference/bristech-2015
URL;VALUE=URI:https://ti.to/bristech-conference/bristech-2015
END:VEVENT
END:VCALENDAR
