BEGIN:VCALENDAR
VERSION:2.0
PRODID:icalendar-ruby
CALSCALE:GREGORIAN
BEGIN:VEVENT
DTSTAMP:20260419T152305Z
UID:WD3jRg
DTSTART:20260418T100000
DTEND:20260419T153000
CLASS:PUBLIC
CREATED:20260124T123351
DESCRIPTION: Liverpool Facilitation Workshops \n\n April 2026 \n\n  \nThis 
 is a two-day weekend of practitioner workshops for facilitators\, teachers
  and people who work with groups. \n\n The days stand alone\, but they als
 o speak to each other. You are welcome to attend either day on its own\, o
 r both. \n\n \n\n Saturday 18 April \n\n Facilitating for Depth: Moving Be
 yond Surface Engagement \n\n 10:00–16:30 \n\n  \nA full-day\, practical 
 workshop focused on a familiar challenge: work that looks engaged but stay
 s on the surface. \n\n The day develops the capacity to recognise when dep
 th is possible\, create the conditions for it\, and sustain it without thi
 ngs tipping into performance\, confusion or inappropriate territory. \n\n 
 Saturday is deliberately small in number to support focused\, practical wo
 rk. \n\n \n\n Sunday 19 April \n\n A Sunday with Your Practice \n\n Steppi
 ng out of the churn\n11:30–15:30 \n\n  \nA slower\, reflective day offer
 ing time and structure to step out of the week-to-week churn and spend a S
 unday alongside your practice. \n\n Neither a training day nor a therapy s
 pace\, the day offers guided reflection and structured conversation to hel
 p you make sense of what you are doing and how it is held. \n\n \n\n Pract
 ical details \n\n Location:\nDoES Liverpool CIC 1st Floor\, The Tapestry\,
 \n68-74 Kempston Street\, Liverpool\, L3 8HL. \n\n  \nBooking:\nYou can bo
 ok Saturday\, Sunday\, or both days.\nSaturday places are capped. \n\n  \n
 Cancellations:\nFull refunds are available up to 28 days before the event.
  After this point\, refunds are not available. Bookings may be transferred
  with notice. \n\n  \nIf you are unsure whether this weekend is right for 
 you\, feel free to get in touch before booking. \n
LAST-MODIFIED:20260320T105055
LOCATION:Central Liverpool
ORGANIZER:mailto:brendon@brendonburns.org
SUMMARY:Liverpool Facilitation Workshops – April 2026
URL;VALUE=URI:https://ti.to/brendon-burns-associated-endeavours/liverpool-f
 acilitation-workshops-april-2026
URL;VALUE=URI:https://ti.to/brendon-burns-associated-endeavours/liverpool-f
 acilitation-workshops-april-2026
END:VEVENT
END:VCALENDAR
