BEGIN:VCALENDAR
VERSION:2.0
PRODID:icalendar-ruby
CALSCALE:GREGORIAN
BEGIN:VEVENT
DTSTAMP:20260420T220351Z
UID:qHuSRg
DTSTART;VALUE=DATE:20190608
DTEND;VALUE=DATE:20190610
CLASS:PUBLIC
CREATED:20190204T155245
DESCRIPTION: THE Bitcoin Security event. \n
LAST-MODIFIED:20190609T210158
LOCATION:Amsterdam
ORGANIZER:mailto:noreply-calendar@tito.io
SUMMARY:Breaking Bitcoin 2019
URL;VALUE=URI:https://ti.to/breaking-bitcoin/breaking-bitcoin-2019
URL;VALUE=URI:https://ti.to/breaking-bitcoin/breaking-bitcoin-2019
END:VEVENT
END:VCALENDAR
