BEGIN:VCALENDAR
VERSION:2.0
PRODID:icalendar-ruby
CALSCALE:GREGORIAN
BEGIN:VTIMEZONE
TZID:Europe/Berlin
BEGIN:DAYLIGHT
DTSTART:20250330T030000
TZOFFSETFROM:+0100
TZOFFSETTO:+0200
RRULE:FREQ=YEARLY;BYDAY=-1SU;BYMONTH=3
TZNAME:CEST
END:DAYLIGHT
BEGIN:STANDARD
DTSTART:20241027T020000
TZOFFSETFROM:+0200
TZOFFSETTO:+0100
RRULE:FREQ=YEARLY;BYDAY=-1SU;BYMONTH=10
TZNAME:CET
END:STANDARD
END:VTIMEZONE
BEGIN:VEVENT
DTSTAMP:20260423T005248Z
UID:r1XL4Q
DTSTART;TZID=Europe/Berlin:20250222T190000
DTEND;TZID=Europe/Berlin:20250223T013000
CLASS:PUBLIC
CREATED:20241224T194301
DESCRIPTION: Join us for the Club Animalz Berlin of 2025! \n\n We are retur
 ning to Kantine Am berghain for our first party of the year. Break those w
 iinter blues and warm up with some great music\, great drinks\, and plenty
  of tail wagging fun! \n\n Animalz is a carefree and accepting party for f
 urs\, pups\, and anyone wanting a sexy\, fun way to let out the inner anim
 al in them! \n\n Kicking off at 19:00 we run through till at least 01:00. 
 Entry to the club is between 19:00 and 22:00. Our dresscode is relaxed - w
 ear what you like as long as it's what you feel great in. For fursuiters w
 e have a fursuit changing\, storage\, and refresh area with free water. \n
 \n Kantine Am Berghain has amazing audio systems\, dazzling lighting\, and
  of course a well-stocked bar. The venue has been at the heart of the LGBT
 Q+ and Techno community for over two decades. They welcome furries\, pups\
 , therians\, and everyone with open arms. \n\n Entry to the club is only b
 etween the hours of 19:00 and 22:00. After 22:00 we will close the ticket 
 office and entry will not be permitted. You must arrive before this time. 
 \n\n We can't wait to see you! \n
LAST-MODIFIED:20250801T134512
LOCATION:Kantine Am Berghain\, Berlin\, Germany
ORGANIZER:mailto:bark@clubanimalz.com
SUMMARY:Animalz Berlin - 22nd February 2025
URL;VALUE=URI:https://ti.to/brb/animalz-berlin-feb2025
URL;VALUE=URI:https://ti.to/brb/animalz-berlin-feb2025
END:VEVENT
END:VCALENDAR
