BEGIN:VCALENDAR
VERSION:2.0
PRODID:icalendar-ruby
CALSCALE:GREGORIAN
BEGIN:VEVENT
DTSTAMP:20260424T001917Z
UID:uNXvSA
DTSTART;VALUE=DATE:20181214
DTEND;VALUE=DATE:20181216
CLASS:PUBLIC
CREATED:20180924T144624
DESCRIPTION: NFT (Non-Fungible Token) Edition. The developer-oriented confe
 rence you've been waiting for. Hands-on material and interaction with peop
 le who actually build things.  Hands-on workshops plus talks included. \n
LAST-MODIFIED:20190208T182633
LOCATION:Čakovec\, Croatia
ORGANIZER:mailto:blockada@pm.me
SUMMARY:Bločk Blockchain Developer Conference
URL;VALUE=URI:https://ti.to/blockada/block-conf
URL;VALUE=URI:https://ti.to/blockada/block-conf
END:VEVENT
END:VCALENDAR
