BEGIN:VCALENDAR
VERSION:2.0
PRODID:icalendar-ruby
CALSCALE:GREGORIAN
BEGIN:VTIMEZONE
TZID:America/Denver
BEGIN:DAYLIGHT
DTSTART:20260308T030000
TZOFFSETFROM:-0700
TZOFFSETTO:-0600
RRULE:FREQ=YEARLY;BYDAY=2SU;BYMONTH=3
TZNAME:MDT
END:DAYLIGHT
BEGIN:STANDARD
DTSTART:20261101T010000
TZOFFSETFROM:-0600
TZOFFSETTO:-0700
RRULE:FREQ=YEARLY;BYDAY=1SU;BYMONTH=11
TZNAME:MST
END:STANDARD
END:VTIMEZONE
BEGIN:VEVENT
DTSTAMP:20260425T121424Z
UID:7U5dbA
DTSTART;TZID=America/Denver:20260611T090000
DTEND;TZID=America/Denver:20260612T170000
CLASS:PUBLIC
CREATED:20250704T152118
LAST-MODIFIED:20260406T055952
LOCATION:Albuquerque\, New Mexico
ORGANIZER:mailto:travis@blastoffrails.com
SUMMARY:Blastoff Rails - 2026
URL;VALUE=URI:https://ti.to/blastoff-rails/2026
URL;VALUE=URI:https://ti.to/blastoff-rails/2026
END:VEVENT
END:VCALENDAR
