BEGIN:VCALENDAR
VERSION:2.0
PRODID:icalendar-ruby
CALSCALE:GREGORIAN
BEGIN:VEVENT
DTSTAMP:20260422T131657Z
UID:OHB3ZQ
DTSTART;VALUE=DATE:20220611
DTEND;VALUE=DATE:20220612
CLASS:PUBLIC
CREATED:20210926T170928
DESCRIPTION: 20 Jahre HER VON WELKEN NÄCHTEN + Album-Präsentation DU WILD
 E LIEBE SEI \n
LAST-MODIFIED:20240404T085211
LOCATION:Club ZENTRAL Stuttgart
ORGANIZER:mailto:info@blastofeternity.de
SUMMARY:Dornenreich — Doppeltour 2022
URL;VALUE=URI:https://ti.to/blastofeternity/dornenreich-doppeltour-2022
URL;VALUE=URI:https://ti.to/blastofeternity/dornenreich-doppeltour-2022
END:VEVENT
END:VCALENDAR
