BEGIN:VCALENDAR
VERSION:2.0
PRODID:icalendar-ruby
CALSCALE:GREGORIAN
BEGIN:VTIMEZONE
TZID:Europe/Berlin
BEGIN:DAYLIGHT
DTSTART:20240331T030000
TZOFFSETFROM:+0100
TZOFFSETTO:+0200
RRULE:FREQ=YEARLY;BYDAY=-1SU;BYMONTH=3
TZNAME:CEST
END:DAYLIGHT
BEGIN:STANDARD
DTSTART:20241027T020000
TZOFFSETFROM:+0200
TZOFFSETTO:+0100
RRULE:FREQ=YEARLY;BYDAY=-1SU;BYMONTH=10
TZNAME:CET
END:STANDARD
END:VTIMEZONE
BEGIN:VEVENT
DTSTAMP:20260423T143723Z
UID:d1wjhA
DTSTART;TZID=Europe/Berlin:20241012T190000
DTEND;TZID=Europe/Berlin:20241012T230000
CLASS:PUBLIC
CREATED:20240326T171706
DESCRIPTION: 2024 und 2025 werden DORNENREICH mit ihren so intensiven wie r
 aren Akustikkonzerten an einigen ausgewählten Orten zu erleben sein. Entl
 ang eines speziellen Spannungsbogens werden DORNENREICH eine Auswahl aus v
 erschiedensten Schaffensperioden der Band darbieten. Das für die Musik de
 r Band ureigene Zusammenspiel aus Dynamik\, feinfühligen Nuancen und Inte
 nsität verleiht den akustischen Bearbeitungen ihrer Lieder dabei eine zus
 ätzliche Ebene an Tiefe und Authentizität. \n\n DORNENREICHS Ausdruck sp
 eist sich aus der geheimnisvollen Intimität des Folk\, aus der urwüchsig
 en Energie von Rock und Metal wie auch aus der Eindringlichkeit klassische
 r Musik. Das stetige Weiterdenken und Finden frischer Zugänge macht DORNE
 NREICH zu einem sich stets neu entwickelnden Erlebnis\, das sich anhand de
 s reichen Albenkatalogs nachzeichnen lässt. In Verbindung mit der markant
 en Sprache der Texte und der Wucht der Darbietung entsteht eine Konzerterf
 ahrung jenseits stilistischer Zuschreibungen – denn „so klingt keine a
 ndere Band auf diesem Planeten“ (Sonic Seducer/June 2021). \n\n Ellereve
  - dahinter verbirgt sich die Singer-Songwriterin Elisa Giulia Teschner. D
 er Stadt und dem Trubel den Rücken gekehrt\, lebt sie umgeben von Wälder
 n und Bergen in der Nähe von München. Hier entwickelte die talentierte K
 ünstlerin ihren wahrhaft unverwechselbaren Stil in Form von intensiven Da
 rk Rock Songs voller emotionaler Dringlichkeit und Sehnsucht. Nach der Ver
 öffentlichung ihrer Debüt EP 'Heart Murmurs' und weiteren Singles in den
  letzten zwei Jahren\, wurde der Sound von Ellereve noch kraftvoller\, was
  nicht zuletzt daran liegt\, dass ihre neuen Stücke\, mit welchen sie auc
 h im Jahr 2022 auf Bühnen wie dem Rockhouse Salzburg\, KAPU Linz\, Merlin
  in Stuttgart u.v.m zu sehen war\, nun in Kombination aus elektronischen E
 lementen\, auch mehr auf das Organische setzen. \n\n "Meine Songs entstehe
 n nach wie vor meist zu später Stunde in meinem Wohnzimmer\, wenn mich ei
 ne Melodie an der Gitarre oder dem Synth dazu inspirieren\, etwas zu schre
 iben. Bevor es dann aber in das Studio geht\, finalisiere ich die Songs im
  Proberaum mit meiner Live Band.“ Die Poesie von Ellereve ist zart und s
 tark zugleich und bleibt intensiv in ihrem Crescendo. Das Ergebnis dieser 
 transformativen Erkundungserfahrung ist eine wahre Ode an die herzzerreiß
 ende Melancholie\, zweifellos enthüllt die Musik von Ellereve die einziga
 rtige\, starke Persönlichkeit der Komponistin\, welche durch das Zusammen
 treffen von atmosphärischen Synths\, dynamischen Drums\, tiefen Bässen\,
  sowie verzerrten und Hall geladenen Gitarren atemberaubend dargestellt wi
 rd. \n\n Die wiederkehrenden Themen der existenzialistischen Unruhe verein
 en sich und offenbaren die introvertierte Natur der Künstlerin\, die sich
  als neugierige Klangforscherin in fesselnden und magischen Klanglandschaf
 ten bewegt. Am 31. März 2023 erscheint das Debüt Album 'Reminiscence' vo
 n Ellereve\, welches über Eisenwald Records veröffentlicht wird. Im Ansc
 hluss daran folgt eine Album Release Tour durch Deutschland und Österreic
 h. \n
LAST-MODIFIED:20241012T150930
LOCATION:Nikolaikirche Heilbronn
ORGANIZER:mailto:info@blastofeternity.de
SUMMARY:Arcane Ceremonies 2024/2025 - Dornenreich Akustisch
URL;VALUE=URI:https://ti.to/blastofeternity/arcane-ceremonies-20242025-dorn
 enreich-akustisch
URL;VALUE=URI:https://ti.to/blastofeternity/arcane-ceremonies-20242025-dorn
 enreich-akustisch
END:VEVENT
END:VCALENDAR
