BEGIN:VCALENDAR
VERSION:2.0
PRODID:icalendar-ruby
CALSCALE:GREGORIAN
BEGIN:VEVENT
DTSTAMP:20260423T154347Z
UID:PobeqQ
DTSTART:20250322T090000
DTEND:20250323T170000
CLASS:PUBLIC
CREATED:20250128T183455
DESCRIPTION: birmingHack is a 24-hour hackathon hosted by the Computer Scie
 nce Society at the University of Birmingham. Whether you're a seasoned hac
 ker\, or have never participated in a hackathon before\, hackathons are a 
 great place to learn some new skills and have fun! \n
LAST-MODIFIED:20250324T185004
LOCATION:School of Computer Science\, University of Birmingham
ORGANIZER:mailto:css@guild.bham.ac.uk
SUMMARY:birmingHack 1.0
URL;VALUE=URI:https://ti.to/birminghack/1
URL;VALUE=URI:https://ti.to/birminghack/1
END:VEVENT
END:VCALENDAR
