BEGIN:VCALENDAR
VERSION:2.0
PRODID:icalendar-ruby
CALSCALE:GREGORIAN
BEGIN:VTIMEZONE
TZID:Europe/London
BEGIN:DAYLIGHT
DTSTART:20240331T020000
TZOFFSETFROM:+0000
TZOFFSETTO:+0100
RRULE:FREQ=YEARLY;BYDAY=-1SU;BYMONTH=3
TZNAME:BST
END:DAYLIGHT
BEGIN:STANDARD
DTSTART:20241027T010000
TZOFFSETFROM:+0100
TZOFFSETTO:+0000
RRULE:FREQ=YEARLY;BYDAY=-1SU;BYMONTH=10
TZNAME:GMT
END:STANDARD
END:VTIMEZONE
BEGIN:VEVENT
DTSTAMP:20260419T175407Z
UID:jQYJng
DTSTART;TZID=Europe/London:20240907T160000
DTEND;TZID=Europe/London:20240907T210000
CLASS:PUBLIC
CREATED:20240709T151450
DESCRIPTION: Dayshift is a party for the 30+ generation who want the unmatc
 hed energy of a club\, but detest the idea of being out past midnight. Joi
 n us for the worldwide clubbing phenomenon featuring DJ's\, dancers\, disc
 o balls\, confetti showers\, and much more. \n\n Running from 4-9pm\, get 
 all the fun of a nightclub but during the daytime. Expect the biggest 80s/
 90s/00s tunes all day long. \n
LAST-MODIFIED:20240717T105514
LOCATION:Bar & Beyond
ORGANIZER:mailto:hello@bingo-loco.com
SUMMARY:DAYSHIFT\, Chelmsford - Saturday 7th September
URL;VALUE=URI:https://ti.to/bingo-loco-uk/dayshift-chelmsford
URL;VALUE=URI:https://ti.to/bingo-loco-uk/dayshift-chelmsford
END:VEVENT
END:VCALENDAR
