BEGIN:VCALENDAR
VERSION:2.0
PRODID:icalendar-ruby
CALSCALE:GREGORIAN
BEGIN:VTIMEZONE
TZID:Europe/Dublin
BEGIN:DAYLIGHT
DTSTART:20231029T010000
TZOFFSETFROM:+0100
TZOFFSETTO:+0000
RRULE:FREQ=YEARLY;BYDAY=-1SU;BYMONTH=10
TZNAME:GMT
END:DAYLIGHT
BEGIN:STANDARD
DTSTART:20230326T020000
TZOFFSETFROM:+0000
TZOFFSETTO:+0100
RRULE:FREQ=YEARLY;BYDAY=-1SU;BYMONTH=3
TZNAME:IST
END:STANDARD
END:VTIMEZONE
BEGIN:VEVENT
DTSTAMP:20260424T163703Z
UID:4JePHQ
DTSTART;VALUE=DATE:20230930
DTEND;VALUE=DATE:20231001
CLASS:PUBLIC
CREATED:20230904T225128
LAST-MODIFIED:20240226T135840
LOCATION:Twenty Two\, Dublin
ORGANIZER:mailto:hello@bingo-loco.com
SUMMARY:Twenty Two\, Dublin - Saturday 30th September 2023
URL;VALUE=URI:https://ti.to/bingo-loco-ireland/bingo-loco-dublin-saturday-3
 0th-september-2023
URL;VALUE=URI:https://ti.to/bingo-loco-ireland/bingo-loco-dublin-saturday-3
 0th-september-2023
END:VEVENT
END:VCALENDAR
