BEGIN:VCALENDAR
VERSION:2.0
PRODID:icalendar-ruby
CALSCALE:GREGORIAN
BEGIN:VEVENT
DTSTAMP:20260419T221242Z
UID:Kszlgw
DTSTART;VALUE=DATE:20200408
DTEND;VALUE=DATE:20200409
CLASS:PUBLIC
CREATED:20200226T202516
DESCRIPTION: Date: April 8th\, 2020 Time: 6:00pm - 8:30pm Location: Lyft HQ
  @ 185 Berry Street\, San Francisco - Food and Drinks sponsored by Lyft an
 d Google \n
LAST-MODIFIED:20210902T040450
LOCATION:Lyft HQ
ORGANIZER:MAILTO:
SUMMARY:Beam and Flink on Kubernetes\, BIP-1\, and Relational-Beam
URL;VALUE=URI:https://ti.to/big-data/beam-and-flink-on-kubernetes-bip-1-and
 -relational-beam
URL;VALUE=URI:https://ti.to/big-data/beam-and-flink-on-kubernetes-bip-1-and
 -relational-beam
END:VEVENT
END:VCALENDAR
