BEGIN:VCALENDAR
VERSION:2.0
PRODID:icalendar-ruby
CALSCALE:GREGORIAN
BEGIN:VEVENT
DTSTAMP:20260423T165914Z
UID:ZvdhUA
DTSTART;VALUE=DATE:20180929
DTEND;VALUE=DATE:20180930
CLASS:PUBLIC
CREATED:20180827T112200
DESCRIPTION: 24th Sept. CANCELLED 😳. Slow ticket sales mean we have had 
 to cancel the event. Refunds out today. \n\n The world of Irish Whiskey is
  re-emerging after decades of dormancy. As more and more distilleries are 
 established there are many reasons to celebrate.  \n\n Join us for 2 hours
  of passion\, story telling and tastings as we chat with  \n\n \n Jenn Nic
 kerson - Chief Dogsbody\, Tipperary Distillery \n Ned Gahan - Head Distill
 er\, Waterford Distillery \n John O'Connell - Head Distiller\, West Cork D
 istillers \n \n\n and special guest Bill Linnane\, freelance journalist wi
 th a very particular grá for whiskey. \n\n We will absolutely talk about 
 whiskey labelling\, the provenance of brands and the terroir of barley. \n
 We will actively explore the various routes open to a new Irish Whiskey Br
 and and the importance of absolute clarity in how a new brand is positione
 d in the eyes of consumers.  \n\n Hosted as always by Highbank Organic Orc
 hard who are distillers of distinction in their own right and a tour of th
 e orchard and distillery is included with your ticket. \nThis will take pl
 ace at 17.30.today \n
LAST-MODIFIED:20180924T081308
LOCATION:Highbank Orchard\, Co Kilkenny
ORGANIZER:mailto:keithbohanna@me.com
SUMMARY:Whiskey\, The Real Thing..... Saturday 29th Sept
URL;VALUE=URI:https://ti.to/biabeag/whiskey29Sept
URL;VALUE=URI:https://ti.to/biabeag/whiskey29Sept
END:VEVENT
END:VCALENDAR
