BEGIN:VCALENDAR
VERSION:2.0
PRODID:icalendar-ruby
CALSCALE:GREGORIAN
BEGIN:VEVENT
DTSTAMP:20260423T161902Z
UID:tblBLw
DTSTART;VALUE=DATE:20140510
DTEND;VALUE=DATE:20140511
CLASS:PUBLIC
CREATED:20140223T161323
DESCRIPTION: Outstanding By Design - increase your sales through great bran
 ding and packaging. \n\n Its a crowded and noisy world. You need to grab c
 onsumers attention and stand out quickly.  For one day in May we explore 7
  case studies that explore how great design work lead to better sales. \n\
 n For more information see http://biabeag.com/outstanding-by-design/ \n
LAST-MODIFIED:20231212T102856
LOCATION:Highbank Orchard\, Cuffesgrange\, Kilkenny
ORGANIZER:mailto:keithbohanna@me.com
SUMMARY:Outstanding by Design
URL;VALUE=URI:https://ti.to/biabeag/outstandingbydesign
URL;VALUE=URI:https://ti.to/biabeag/outstandingbydesign
END:VEVENT
END:VCALENDAR
