BEGIN:VCALENDAR
VERSION:2.0
PRODID:icalendar-ruby
CALSCALE:GREGORIAN
BEGIN:VEVENT
DTSTAMP:20260423T174939Z
UID:zZRwQw
DTSTART;VALUE=DATE:20140405
DTEND;VALUE=DATE:20140406
CLASS:PUBLIC
CREATED:20140123T144821
DESCRIPTION: 6pm Saturday 5th April - Meet the Cheese Makers \n\n \n Helen 
 Finnegan\, Knockdrinna: 2013 British Cheese Awards winner \n Siobhan Ni Gh
 airbhith\, St Tola:  Irish Organic Goat Cheese\, Co Clare \n Tom Burgess\,
  Coolattin Cheddar: Mature Raw Milk Cheddar \n \n\n Join us as we share th
 eir passion\, explore their stories and sample their wonderful cheeses \n
LAST-MODIFIED:20140405T080426
LOCATION:Highbank Orchard\, Kilkenny
ORGANIZER:mailto:keithbohanna@me.com
SUMMARY:Meet The Maker - Cheeses
URL;VALUE=URI:https://ti.to/biabeag/cheeses
URL;VALUE=URI:https://ti.to/biabeag/cheeses
END:VEVENT
END:VCALENDAR
