BEGIN:VCALENDAR
VERSION:2.0
PRODID:icalendar-ruby
CALSCALE:GREGORIAN
BEGIN:VEVENT
DTSTAMP:20260423T160857Z
UID:1lxEmQ
DTSTART;VALUE=DATE:20151023
DTEND;VALUE=DATE:20151026
CLASS:PUBLIC
CREATED:20150818T195738
DESCRIPTION: A series of special meet the food producer events where 3 prod
 ucers share their passions in their own businesses and then their combined
  experience of collaborating on new products together especially for Savou
 r Kilkenny. \n\n There will be discussions\, fun and lots of tastings \;-)
  \n\n For each evening the three producers have been working together for 
 weeks and months to bring us special and unique treats combining one or mo
 re of their products or ingredients.  \n\n They will each share their own 
 individual story and passion for what they do and then together they will 
 talk about the experiments and stories behind their collaborative treats f
 or us in the audience. \n\n If you are a Slow Food member use the coupon s
 lowfood at the checkout for 50% off ticket prices and thank you for being 
 a member! \n
LAST-MODIFIED:20151025T095241
LOCATION:Kilkenny\, Ireland 
ORGANIZER:mailto:keithbohanna@me.com
SUMMARY:Biabeag - Meet The Producers
URL;VALUE=URI:https://ti.to/biabeag/SavourKilkenny2015
URL;VALUE=URI:https://ti.to/biabeag/SavourKilkenny2015
END:VEVENT
END:VCALENDAR
