BEGIN:VCALENDAR
VERSION:2.0
PRODID:icalendar-ruby
CALSCALE:GREGORIAN
BEGIN:VTIMEZONE
TZID:Europe/Berlin
BEGIN:DAYLIGHT
DTSTART:20240331T030000
TZOFFSETFROM:+0100
TZOFFSETTO:+0200
RRULE:FREQ=YEARLY;BYDAY=-1SU;BYMONTH=3
TZNAME:CEST
END:DAYLIGHT
BEGIN:STANDARD
DTSTART:20241027T020000
TZOFFSETFROM:+0200
TZOFFSETTO:+0100
RRULE:FREQ=YEARLY;BYDAY=-1SU;BYMONTH=10
TZNAME:CET
END:STANDARD
END:VTIMEZONE
BEGIN:VEVENT
DTSTAMP:20260422T085604Z
UID:pPcUNA
DTSTART;VALUE=DATE:20240513
DTEND;VALUE=DATE:20240515
CLASS:PUBLIC
CREATED:20230717T120913
DESCRIPTION: We are back in Düsseldorf\, the home town of beyond tellerran
 d (aka #btconf). After a re-start in 2022 and a sold out event in 2023\, w
 e want to fill up the room once more with excitement and people who are ex
 cited!  \n\n Join us for a diverse\, entertaining\, and educating program 
 with some of the best and nicest people on stage and in the audience. But 
 even more important be ready to have a fantastic time\, as this is what we
  want to achieve with like minded people\, where design and technology mee
 t. \n
LAST-MODIFIED:20251201T181004
LOCATION:Düsseldorf\, Germany
ORGANIZER:mailto:marc@beyondtellerrand.com
SUMMARY:beyond tellerrand // Düsseldorf 2024
URL;VALUE=URI:https://ti.to/beyondtellerrand/dusseldorf-2024
URL;VALUE=URI:https://ti.to/beyondtellerrand/dusseldorf-2024
END:VEVENT
BEGIN:VEVENT
DTSTAMP:20260422T085604Z
UID:pPcUNA1065733
DTSTART;TZID=Europe/Berlin:20240512T093000
DTEND;TZID=Europe/Berlin:20240512T160000
CLASS:PUBLIC
CREATED:20240108T134204
LAST-MODIFIED:20240503T162801
ORGANIZER:mailto:marc@beyondtellerrand.com
SUMMARY:[beyond tellerrand // Düsseldorf 2024] Full-Day Workshop: Typograp
 her vs. Accessibility with Oliver Schöndorfer (12 May)
URL;VALUE=URI:https://ti.to/beyondtellerrand/dusseldorf-2024
URL;VALUE=URI:https://ti.to/beyondtellerrand/dusseldorf-2024
END:VEVENT
BEGIN:VEVENT
DTSTAMP:20260422T085604Z
UID:pPcUNA1059220
DTSTART;TZID=Europe/Berlin:20240512T183000
DTEND;TZID=Europe/Berlin:20240512T220000
CLASS:PUBLIC
CREATED:20230717T120920
LAST-MODIFIED:20240510T140436
LOCATION:sipgate\, Gladbacher Str. 74\, 40219 Düsseldorf\, Germany
ORGANIZER:mailto:marc@beyondtellerrand.com
SUMMARY:[beyond tellerrand // Düsseldorf 2024] Pre-Conference Warm-Up // b
 tconf Düsseldorf 2024
URL;VALUE=URI:https://ti.to/beyondtellerrand/dusseldorf-2024
URL;VALUE=URI:https://ti.to/beyondtellerrand/dusseldorf-2024
END:VEVENT
BEGIN:VEVENT
DTSTAMP:20260422T085604Z
UID:pPcUNA1059218
DTSTART;TZID=Europe/Berlin:20240513T110000
DTEND;TZID=Europe/Berlin:20240513T220000
CLASS:PUBLIC
CREATED:20230717T120920
LAST-MODIFIED:20240503T163139
LOCATION:Capitol Theater\, Erkrather Straße 30\n40233 Düsseldorf\nGermany
ORGANIZER:mailto:marc@beyondtellerrand.com
SUMMARY:[beyond tellerrand // Düsseldorf 2024] Main Conference Day 1 – b
 eyond tellerrand // Düsseldorf 2024
URL;VALUE=URI:https://ti.to/beyondtellerrand/dusseldorf-2024
URL;VALUE=URI:https://ti.to/beyondtellerrand/dusseldorf-2024
END:VEVENT
BEGIN:VEVENT
DTSTAMP:20260422T085604Z
UID:pPcUNA1059219
DTSTART;TZID=Europe/Berlin:20240514T100000
DTEND;TZID=Europe/Berlin:20240514T190000
CLASS:PUBLIC
CREATED:20230717T120920
LAST-MODIFIED:20240503T163053
LOCATION:Capitol Theater\, Erkrather Straße 30\n40233 Düsseldorf\nGermany
ORGANIZER:mailto:marc@beyondtellerrand.com
SUMMARY:[beyond tellerrand // Düsseldorf 2024] Main Conference Day 2 – b
 eyond tellerrand // Düsseldorf 2024
URL;VALUE=URI:https://ti.to/beyondtellerrand/dusseldorf-2024
URL;VALUE=URI:https://ti.to/beyondtellerrand/dusseldorf-2024
END:VEVENT
END:VCALENDAR
