BEGIN:VCALENDAR
VERSION:2.0
PRODID:icalendar-ruby
CALSCALE:GREGORIAN
BEGIN:VTIMEZONE
TZID:Europe/Berlin
BEGIN:DAYLIGHT
DTSTART:20220327T030000
TZOFFSETFROM:+0100
TZOFFSETTO:+0200
RRULE:FREQ=YEARLY;BYDAY=-1SU;BYMONTH=3
TZNAME:CEST
END:DAYLIGHT
BEGIN:STANDARD
DTSTART:20221030T020000
TZOFFSETFROM:+0200
TZOFFSETTO:+0100
RRULE:FREQ=YEARLY;BYDAY=-1SU;BYMONTH=10
TZNAME:CET
END:STANDARD
END:VTIMEZONE
BEGIN:VEVENT
DTSTAMP:20260420T083855Z
UID:kddehA
DTSTART;VALUE=DATE:20220501
DTEND;VALUE=DATE:20220505
CLASS:PUBLIC
CREATED:20210625T122012
DESCRIPTION: We are back in Düsseldorf\, the home town of beyond tellerran
 d (aka #btconf). After a tough time with a world wide pandemic happening\,
  we hope to bring back beyond tellerrand to you in a regular way again. Jo
 in us for a diverse\, entertaining\, and educating program with some of th
 e best and nicest people on stage and in the audience. But even more impor
 tant be ready to have a fantastic time\, as this is what we want to achiev
 e with like minded people\, where design and technology meet. \n
LAST-MODIFIED:20251201T181004
LOCATION:Düsseldorf\, Germany
ORGANIZER:mailto:marc@beyondtellerrand.com
SUMMARY:beyond tellerrand // Düsseldorf 2022
URL;VALUE=URI:https://ti.to/beyondtellerrand/dusseldorf-2022
URL;VALUE=URI:https://ti.to/beyondtellerrand/dusseldorf-2022
END:VEVENT
BEGIN:VEVENT
DTSTAMP:20260420T083855Z
UID:kddehA1045791
DTSTART;TZID=Europe/Berlin:20220430T090000
DTEND;TZID=Europe/Berlin:20220430T160000
CLASS:PUBLIC
CREATED:20220425T220913
LAST-MODIFIED:20220425T220941
LOCATION:CGI\, Heerdter Lohweg 35\, 40549 Düsseldorf\, Germany
ORGANIZER:mailto:marc@beyondtellerrand.com
SUMMARY:[beyond tellerrand // Düsseldorf 2022] Indie Web Camp Day 1
URL;VALUE=URI:https://ti.to/beyondtellerrand/dusseldorf-2022
URL;VALUE=URI:https://ti.to/beyondtellerrand/dusseldorf-2022
END:VEVENT
BEGIN:VEVENT
DTSTAMP:20260420T083855Z
UID:kddehA1045792
DTSTART;TZID=Europe/Berlin:20220501T100000
DTEND;TZID=Europe/Berlin:20220501T170000
CLASS:PUBLIC
CREATED:20220425T220930
LAST-MODIFIED:20220425T221018
LOCATION:CGI\, Heerdter Lohweg 35\, 40549 Düsseldorf\, Germany
ORGANIZER:mailto:marc@beyondtellerrand.com
SUMMARY:[beyond tellerrand // Düsseldorf 2022] Indie Web Camp Day 2
URL;VALUE=URI:https://ti.to/beyondtellerrand/dusseldorf-2022
URL;VALUE=URI:https://ti.to/beyondtellerrand/dusseldorf-2022
END:VEVENT
BEGIN:VEVENT
DTSTAMP:20260420T083855Z
UID:kddehA1045786
DTSTART;TZID=Europe/Berlin:20220501T163000
DTEND;TZID=Europe/Berlin:20220501T183000
CLASS:PUBLIC
CREATED:20220425T220154
LAST-MODIFIED:20220425T220516
LOCATION:Wacom Experience Center Düsseldorf\, Zollhof 13\, 40221 Düsseldo
 rf\, Germany
ORGANIZER:mailto:marc@beyondtellerrand.com
SUMMARY:[beyond tellerrand // Düsseldorf 2022] Mike Jellinek @ Wacom Exper
 ience Center
URL;VALUE=URI:https://ti.to/beyondtellerrand/dusseldorf-2022
URL;VALUE=URI:https://ti.to/beyondtellerrand/dusseldorf-2022
END:VEVENT
BEGIN:VEVENT
DTSTAMP:20260420T083855Z
UID:kddehA1038959
DTSTART;TZID=Europe/Berlin:20220501T183000
DTEND;TZID=Europe/Berlin:20220501T230000
CLASS:PUBLIC
CREATED:20210628T153311
LAST-MODIFIED:20220425T220601
LOCATION:Wacom Experience Center Düsseldorf\, Zollhof 13\, 40221 Düsseldo
 rf\, Germany
ORGANIZER:mailto:marc@beyondtellerrand.com
SUMMARY:[beyond tellerrand // Düsseldorf 2022] Pre-Conference Warm-Up // b
 tconf Düsseldorf 2022
URL;VALUE=URI:https://ti.to/beyondtellerrand/dusseldorf-2022
URL;VALUE=URI:https://ti.to/beyondtellerrand/dusseldorf-2022
END:VEVENT
BEGIN:VEVENT
DTSTAMP:20260420T083855Z
UID:kddehA1038957
DTSTART;TZID=Europe/Berlin:20220502T093000
DTEND;TZID=Europe/Berlin:20220502T230000
CLASS:PUBLIC
CREATED:20210628T153038
LAST-MODIFIED:20220427T121605
LOCATION:Capitol Theater\, Erkrather Straße 30\n40233 Düsseldorf\nGermany
ORGANIZER:mailto:marc@beyondtellerrand.com
SUMMARY:[beyond tellerrand // Düsseldorf 2022] Main Conference Day 1 – b
 eyond tellerrand // Düsseldorf 2022
URL;VALUE=URI:https://ti.to/beyondtellerrand/dusseldorf-2022
URL;VALUE=URI:https://ti.to/beyondtellerrand/dusseldorf-2022
END:VEVENT
BEGIN:VEVENT
DTSTAMP:20260420T083855Z
UID:kddehA1038958
DTSTART;TZID=Europe/Berlin:20220503T090000
DTEND;TZID=Europe/Berlin:20220503T190000
CLASS:PUBLIC
CREATED:20210628T153238
LAST-MODIFIED:20220427T121624
LOCATION:Capitol Theater\, Erkrather Straße 30\n40233 Düsseldorf\nGermany
ORGANIZER:mailto:marc@beyondtellerrand.com
SUMMARY:[beyond tellerrand // Düsseldorf 2022] Main Conference Day 2 – b
 eyond tellerrand // Düsseldorf 2022
URL;VALUE=URI:https://ti.to/beyondtellerrand/dusseldorf-2022
URL;VALUE=URI:https://ti.to/beyondtellerrand/dusseldorf-2022
END:VEVENT
BEGIN:VEVENT
DTSTAMP:20260420T083855Z
UID:kddehA1041545
DTSTART;TZID=Europe/Berlin:20220504T100000
DTEND;TZID=Europe/Berlin:20220504T170000
CLASS:PUBLIC
CREATED:20211027T123145
LAST-MODIFIED:20211027T123411
LOCATION:NH Düsseldorf City\, Kölner Str. 186-188\n40227 Düsseldorf
ORGANIZER:mailto:marc@beyondtellerrand.com
SUMMARY:[beyond tellerrand // Düsseldorf 2022] Full-Day Workshop: Designin
 g for Emotion Masterclass with Aarron Walter (4 May)
URL;VALUE=URI:https://ti.to/beyondtellerrand/dusseldorf-2022
URL;VALUE=URI:https://ti.to/beyondtellerrand/dusseldorf-2022
END:VEVENT
END:VCALENDAR
