BEGIN:VCALENDAR
VERSION:2.0
PRODID:icalendar-ruby
CALSCALE:GREGORIAN
BEGIN:VEVENT
DTSTAMP:20260422T092705Z
UID:nM1tUw
DTSTART;VALUE=DATE:20180507
DTEND;VALUE=DATE:20180510
CLASS:PUBLIC
CREATED:20170911T131936
DESCRIPTION: 8 years of beyond tellerrand in Düsseldorf\, the mother of th
 e #btconf series. We are happy to be back in Düsseldorf. Be ready for a d
 iverse\, entertaining\, and educating program with some of the best and ni
 cest people on stage and in the audience. But most importantly be ready to
  have a fantastic time\, as this is what we want to achieve. \n
LAST-MODIFIED:20251201T171004
LOCATION:Düsseldorf\, Germany
ORGANIZER:mailto:marc@beyondtellerrand.com
SUMMARY:beyond tellerrand // Düsseldorf 2018
URL;VALUE=URI:https://ti.to/beyondtellerrand/duesseldorf-2018
URL;VALUE=URI:https://ti.to/beyondtellerrand/duesseldorf-2018
END:VEVENT
END:VCALENDAR
