BEGIN:VCALENDAR
VERSION:2.0
PRODID:icalendar-ruby
CALSCALE:GREGORIAN
BEGIN:VTIMEZONE
TZID:Europe/Berlin
BEGIN:DAYLIGHT
DTSTART:20260329T030000
TZOFFSETFROM:+0100
TZOFFSETTO:+0200
RRULE:FREQ=YEARLY;BYDAY=-1SU;BYMONTH=3
TZNAME:CEST
END:DAYLIGHT
BEGIN:STANDARD
DTSTART:20251026T020000
TZOFFSETFROM:+0200
TZOFFSETTO:+0100
RRULE:FREQ=YEARLY;BYDAY=-1SU;BYMONTH=10
TZNAME:CET
END:STANDARD
END:VTIMEZONE
BEGIN:VEVENT
DTSTAMP:20260422T085359Z
UID:D0kWZw
DTSTART;TZID=Europe/Berlin:20251106T093000
DTEND;TZID=Europe/Berlin:20251107T200000
CLASS:PUBLIC
CREATED:20250203T210452
DESCRIPTION: A diverse\, entertaining\, and educating event with some of th
 e best and nicest people on stage and in the audience. Most importantly yo
 u should be ready to have a fantastic time\, as this is what we want to ac
 hieve. That is beyond tellerrand. Come and join us for the 2025 edition in
  Berlin on November 6 and 7. Possible Side Events and Workshops around tho
 se dates. \n
LAST-MODIFIED:20251201T181004
LOCATION:Berlin\, Germany
ORGANIZER:mailto:marc@beyondtellerrand.com
SUMMARY:beyond tellerrand // Berlin 2025
URL;VALUE=URI:https://ti.to/beyondtellerrand/berlin-2025
URL;VALUE=URI:https://ti.to/beyondtellerrand/berlin-2025
END:VEVENT
BEGIN:VEVENT
DTSTAMP:20260422T085359Z
UID:D0kWZw1081932
DTSTART;TZID=Europe/Berlin:20251101T100000
DTEND;TZID=Europe/Berlin:20251101T170000
CLASS:PUBLIC
CREATED:20250203T210500
LAST-MODIFIED:20251029T195344
LOCATION:Mozilla Berlin\, Schlesische Str. 27\, 10997 Berlin\, Germany
ORGANIZER:mailto:marc@beyondtellerrand.com
SUMMARY:[beyond tellerrand // Berlin 2025] IndieWebCamp Berlin - Day 1
URL;VALUE=URI:https://ti.to/beyondtellerrand/berlin-2025
URL;VALUE=URI:https://ti.to/beyondtellerrand/berlin-2025
END:VEVENT
BEGIN:VEVENT
DTSTAMP:20260422T085359Z
UID:D0kWZw1081933
DTSTART;TZID=Europe/Berlin:20251102T100000
DTEND;TZID=Europe/Berlin:20251102T170000
CLASS:PUBLIC
CREATED:20250203T210500
LAST-MODIFIED:20251029T195356
LOCATION:Mozilla Berlin\, Schlesische Str. 27\, 10997 Berlin\, Germany
ORGANIZER:mailto:marc@beyondtellerrand.com
SUMMARY:[beyond tellerrand // Berlin 2025] IndieWebCamp Berlin - Day 2
URL;VALUE=URI:https://ti.to/beyondtellerrand/berlin-2025
URL;VALUE=URI:https://ti.to/beyondtellerrand/berlin-2025
END:VEVENT
BEGIN:VEVENT
DTSTAMP:20260422T085400Z
UID:D0kWZw1093011
DTSTART;TZID=Europe/Berlin:20251105T100000
DTEND;TZID=Europe/Berlin:20251105T170000
CLASS:PUBLIC
CREATED:20251029T195518
LAST-MODIFIED:20251029T195909
LOCATION:"Backstage" at Michelberger Hotel\, Warschauer Str. 39-40\, 10243 
 Berlin\, Germany
ORGANIZER:mailto:marc@beyondtellerrand.com
SUMMARY:[beyond tellerrand // Berlin 2025] "Advanced Design Tokens" Worksho
 p
URL;VALUE=URI:https://ti.to/beyondtellerrand/berlin-2025
URL;VALUE=URI:https://ti.to/beyondtellerrand/berlin-2025
END:VEVENT
BEGIN:VEVENT
DTSTAMP:20260422T085400Z
UID:D0kWZw1081931
DTSTART;TZID=Europe/Berlin:20251105T183000
DTEND;TZID=Europe/Berlin:20251105T220000
CLASS:PUBLIC
CREATED:20250203T210500
LAST-MODIFIED:20251201T182031
LOCATION:diesdas Digital GmbH\, Oranienstraße 6\n10997 Berlin
ORGANIZER:mailto:marc@beyondtellerrand.com
SUMMARY:[beyond tellerrand // Berlin 2025] Pre-Festival Warm-Up
URL;VALUE=URI:https://ti.to/beyondtellerrand/berlin-2025
URL;VALUE=URI:https://ti.to/beyondtellerrand/berlin-2025
END:VEVENT
BEGIN:VEVENT
DTSTAMP:20260422T085400Z
UID:D0kWZw1081929
DTSTART;TZID=Europe/Berlin:20251106T093000
DTEND;TZID=Europe/Berlin:20251106T230000
CLASS:PUBLIC
CREATED:20250203T210459
LAST-MODIFIED:20250203T211336
LOCATION:Festsaal Kreuzberg\, Am Flutgraben 2\, 12435 Berlin\, Germany
ORGANIZER:mailto:marc@beyondtellerrand.com
SUMMARY:[beyond tellerrand // Berlin 2025] Main Conference Day 1 – beyond
  tellerrand // Berlin
URL;VALUE=URI:https://ti.to/beyondtellerrand/berlin-2025
URL;VALUE=URI:https://ti.to/beyondtellerrand/berlin-2025
END:VEVENT
BEGIN:VEVENT
DTSTAMP:20260422T085400Z
UID:D0kWZw1081930
DTSTART;TZID=Europe/Berlin:20251107T090000
DTEND;TZID=Europe/Berlin:20251107T200000
CLASS:PUBLIC
CREATED:20250203T210500
LAST-MODIFIED:20250203T211415
LOCATION:Festsaal Kreuzberg\, Am Flutgraben 2\, 12435 Berlin\, Germany
ORGANIZER:mailto:marc@beyondtellerrand.com
SUMMARY:[beyond tellerrand // Berlin 2025] Main Conference Day 2 – beyond
  tellerrand // Berlin
URL;VALUE=URI:https://ti.to/beyondtellerrand/berlin-2025
URL;VALUE=URI:https://ti.to/beyondtellerrand/berlin-2025
END:VEVENT
END:VCALENDAR
