BEGIN:VCALENDAR
VERSION:2.0
PRODID:icalendar-ruby
CALSCALE:GREGORIAN
BEGIN:VTIMEZONE
TZID:America/New_York
BEGIN:DAYLIGHT
DTSTART:20250309T030000
TZOFFSETFROM:-0500
TZOFFSETTO:-0400
RRULE:FREQ=YEARLY;BYDAY=2SU;BYMONTH=3
TZNAME:EDT
END:DAYLIGHT
BEGIN:STANDARD
DTSTART:20251102T010000
TZOFFSETFROM:-0400
TZOFFSETTO:-0500
RRULE:FREQ=YEARLY;BYDAY=1SU;BYMONTH=11
TZNAME:EST
END:STANDARD
END:VTIMEZONE
BEGIN:VEVENT
DTSTAMP:20260423T163848Z
UID:r8Lftw
DTSTART;TZID=America/New_York:20250626T100000
DTEND;TZID=America/New_York:20250626T120000
CLASS:PUBLIC
CREATED:20250603T101624
DESCRIPTION: Join BetaNYC to learn about mapping NYC's public amenities in 
 New York City Council District 33! This in-person field-mapping event teac
 hes the public how to collect geographical open data to create more accura
 tely represented spaces. \n
LAST-MODIFIED:20260317T120021
LOCATION:Cadman Plaza Park\, Brooklyn
ORGANIZER:mailto:events@beta.nyc
SUMMARY:Mapping for Equity: Mapping NYC's Public Amenities in New York City
  Council District 33 with BetaNYC
URL;VALUE=URI:https://ti.to/betanyc/mapping-for-equity-district-33
URL;VALUE=URI:https://ti.to/betanyc/mapping-for-equity-district-33
END:VEVENT
END:VCALENDAR
