BEGIN:VCALENDAR
VERSION:2.0
PRODID:icalendar-ruby
CALSCALE:GREGORIAN
BEGIN:VTIMEZONE
TZID:America/New_York
BEGIN:DAYLIGHT
DTSTART:20250309T030000
TZOFFSETFROM:-0500
TZOFFSETTO:-0400
RRULE:FREQ=YEARLY;BYDAY=2SU;BYMONTH=3
TZNAME:EDT
END:DAYLIGHT
BEGIN:STANDARD
DTSTART:20251102T010000
TZOFFSETFROM:-0400
TZOFFSETTO:-0500
RRULE:FREQ=YEARLY;BYDAY=1SU;BYMONTH=11
TZNAME:EST
END:STANDARD
END:VTIMEZONE
BEGIN:VEVENT
DTSTAMP:20260423T163756Z
UID:VPHHqA
DTSTART;TZID=America/New_York:20250708T150000
DTEND;TZID=America/New_York:20250708T170000
CLASS:PUBLIC
CREATED:20250520T114049
DESCRIPTION: Join BetaNYC to learn about mapping NYC's public amenities in 
 New York City Council District 2! This in-person field-mapping event teach
 es the public how to collect geographical open data to create more accurat
 ely represented spaces. \n
LAST-MODIFIED:20260317T120021
LOCATION:Tompkins Square Park
ORGANIZER:mailto:events@beta.nyc
SUMMARY:Mapping for Equity: Mapping NYC's Public Amenities in NYC Council D
 istrict 2 with BetaNYC
URL;VALUE=URI:https://ti.to/betanyc/mapping-for-equity-district-2
URL;VALUE=URI:https://ti.to/betanyc/mapping-for-equity-district-2
END:VEVENT
END:VCALENDAR
