BEGIN:VCALENDAR
VERSION:2.0
PRODID:icalendar-ruby
CALSCALE:GREGORIAN
BEGIN:VEVENT
DTSTAMP:20260420T124600Z
UID:2JMPLw
DTSTART;VALUE=DATE:20191011
DTEND;VALUE=DATE:20191012
CLASS:PUBLIC
CREATED:20181115T191800
DESCRIPTION: beatvyne's Music x Tech Experience is a gathering of the world
 ’s leading experts\, from the established to the radical\, highlighting 
 new technologies in a changing global entertainment industry\, encouraging
  interdisciplinary and cross-cultural collaborations to jointly enhance th
 e entertainment industry for the better - with a focus on the fan experien
 ce. \n\n If you have any questions\, email us at tickets@beatvyne.com \n
LAST-MODIFIED:20191011T132007
LOCATION:Aviva Stadium\, Dublin\, Ireland
ORGANIZER:mailto:tickets@beatvyne.com
SUMMARY:beatvyne's Music x Tech Experience 2019
URL;VALUE=URI:https://ti.to/beatvyne/mxt2019
URL;VALUE=URI:https://ti.to/beatvyne/mxt2019
END:VEVENT
END:VCALENDAR
