BEGIN:VCALENDAR
VERSION:2.0
PRODID:icalendar-ruby
CALSCALE:GREGORIAN
BEGIN:VEVENT
DTSTAMP:20260424T003507Z
UID:fTXnnQ
DTSTART;VALUE=DATE:20190720
DTEND;VALUE=DATE:20190721
CLASS:PUBLIC
CREATED:20190705T152313
DESCRIPTION: BDotNet UG Meet \n
LAST-MODIFIED:20200115T063332
LOCATION:Microsoft India (R&D) Pvt Ltd\,    Prestige Ferns Galaxy Ambalipur
 a Village\, Varthur Hobli Outer Ring Road Bengaluru – 560 103
ORGANIZER:mailto:svswaminathan@outlook.com
SUMMARY:BDotNet Monthly User Group Meet
URL;VALUE=URI:https://ti.to/bdotnetug/july19-meetup
URL;VALUE=URI:https://ti.to/bdotnetug/july19-meetup
END:VEVENT
END:VCALENDAR
